BEGIN:VCALENDAR
VERSION:2.0
PRODID:-//Errigal Motorcycle Club - ECPv6.15.20//NONSGML v1.0//EN
CALSCALE:GREGORIAN
METHOD:PUBLISH
X-WR-CALNAME:Errigal Motorcycle Club
X-ORIGINAL-URL:https://www.errigalmcc.com
X-WR-CALDESC:Events for Errigal Motorcycle Club
REFRESH-INTERVAL;VALUE=DURATION:PT1H
X-Robots-Tag:noindex
X-PUBLISHED-TTL:PT1H
BEGIN:VTIMEZONE
TZID:Europe/Dublin
BEGIN:STANDARD
TZOFFSETFROM:+0000
TZOFFSETTO:+0100
TZNAME:IST
DTSTART:20220327T010000
END:STANDARD
BEGIN:DAYLIGHT
TZOFFSETFROM:+0100
TZOFFSETTO:+0000
TZNAME:GMT
DTSTART:20221030T010000
END:DAYLIGHT
BEGIN:STANDARD
TZOFFSETFROM:+0000
TZOFFSETTO:+0100
TZNAME:IST
DTSTART:20230326T010000
END:STANDARD
BEGIN:DAYLIGHT
TZOFFSETFROM:+0100
TZOFFSETTO:+0000
TZNAME:GMT
DTSTART:20231029T010000
END:DAYLIGHT
BEGIN:STANDARD
TZOFFSETFROM:+0000
TZOFFSETTO:+0100
TZNAME:IST
DTSTART:20240331T010000
END:STANDARD
BEGIN:DAYLIGHT
TZOFFSETFROM:+0100
TZOFFSETTO:+0000
TZNAME:GMT
DTSTART:20241027T010000
END:DAYLIGHT
END:VTIMEZONE
BEGIN:VEVENT
DTSTART;VALUE=DATE:20230910
DTEND;VALUE=DATE:20230911
DTSTAMP:20260421T184453
CREATED:20230906T115348Z
LAST-MODIFIED:20230906T115348Z
UID:783-1694304000-1694390399@www.errigalmcc.com
SUMMARY:FIFTH ROUND DONEGAL CHAMPIONSHIP 2023
DESCRIPTION:
URL:https://www.errigalmcc.com/event/fifth-round-donegal-championship-2023/
LOCATION:PIN TAVERN\, Letterkenny\, Ireland
END:VEVENT
END:VCALENDAR