BEGIN:VCALENDAR
VERSION:2.0
PRODID:-//Errigal Motorcycle Club - ECPv6.15.20//NONSGML v1.0//EN
CALSCALE:GREGORIAN
METHOD:PUBLISH
X-WR-CALNAME:Errigal Motorcycle Club
X-ORIGINAL-URL:https://www.errigalmcc.com
X-WR-CALDESC:Events for Errigal Motorcycle Club
REFRESH-INTERVAL;VALUE=DURATION:PT1H
X-Robots-Tag:noindex
X-PUBLISHED-TTL:PT1H
BEGIN:VTIMEZONE
TZID:Europe/Dublin
BEGIN:STANDARD
TZOFFSETFROM:+0000
TZOFFSETTO:+0100
TZNAME:IST
DTSTART:20200329T010000
END:STANDARD
BEGIN:DAYLIGHT
TZOFFSETFROM:+0100
TZOFFSETTO:+0000
TZNAME:GMT
DTSTART:20201025T010000
END:DAYLIGHT
BEGIN:STANDARD
TZOFFSETFROM:+0000
TZOFFSETTO:+0100
TZNAME:IST
DTSTART:20210328T010000
END:STANDARD
BEGIN:DAYLIGHT
TZOFFSETFROM:+0100
TZOFFSETTO:+0000
TZNAME:GMT
DTSTART:20211031T010000
END:DAYLIGHT
BEGIN:STANDARD
TZOFFSETFROM:+0000
TZOFFSETTO:+0100
TZNAME:IST
DTSTART:20220327T010000
END:STANDARD
BEGIN:DAYLIGHT
TZOFFSETFROM:+0100
TZOFFSETTO:+0000
TZNAME:GMT
DTSTART:20221030T010000
END:DAYLIGHT
END:VTIMEZONE
BEGIN:VEVENT
DTSTART;VALUE=DATE:20211031
DTEND;VALUE=DATE:20211101
DTSTAMP:20260423T051717
CREATED:20211026T203641Z
LAST-MODIFIED:20211026T203649Z
UID:617-1635638400-1635724799@www.errigalmcc.com
SUMMARY:FINAL ROUND DONEGAL CHAMPIONSHIP - BARLEY STUBBLE @ NIXONS CORNER
DESCRIPTION:
URL:https://www.errigalmcc.com/event/final-round-donegal-championship-barley-stubble-nixons-corner/
LOCATION:NIXONS CORNER
CATEGORIES:Donegal Championship 2021
END:VEVENT
END:VCALENDAR